BEGIN:VCALENDAR
VERSION:2.0
PRODID:-//210.5.50.145//NONSGML kigkonsult.se iCalcreator 2.20//
CALSCALE:GREGORIAN
METHOD:PUBLISH
X-WR-CALNAME:Avonstour Island
X-WR-CALDESC:Avonstour Rare Breeds Heritage Farm
X-FROM-URL:https://avonstourisland.co.nz
X-WR-TIMEZONE:Atlantic/Azores
BEGIN:VTIMEZONE
TZID:Atlantic/Azores
X-LIC-LOCATION:Atlantic/Azores
BEGIN:STANDARD
DTSTART:20171029T010000
TZOFFSETFROM:+0000
TZOFFSETTO:-0100
TZNAME:-01
END:STANDARD
BEGIN:DAYLIGHT
DTSTART:20180325T000000
TZOFFSETFROM:-0100
TZOFFSETTO:+0000
TZNAME:+00
END:DAYLIGHT
END:VTIMEZONE
BEGIN:VEVENT
UID:ai1ec-153@avonstourisland.co.nz
DTSTAMP:20180121T131318Z
CATEGORIES:
CONTACT:John Earney\; 64-6-762 7992\; rarebreeds@paradise.net.nz\; https://
 avonstourisland.co.nz/
DESCRIPTION:
DTSTART;VALUE=DATE:20171130
DTEND;VALUE=DATE:20171201
LOCATION:Avonstour Island @ 1170 Makuri Road RD 25 Stratford 4395
SEQUENCE:0
SUMMARY:Rare Breeds Training Day
URL:https://avonstourisland.co.nz/index.php/event/rare-breeds-training-day/
X-COST-TYPE:free
X-COST:100
END:VEVENT
END:VCALENDAR
